BEGIN:VCALENDAR
VERSION:2.0
PRODID:-//Razem w misji - ECPv6.15.20//NONSGML v1.0//EN
CALSCALE:GREGORIAN
METHOD:PUBLISH
X-ORIGINAL-URL:https://razemwmisji.pl
X-WR-CALDESC:Wydarzenia dla Razem w misji
REFRESH-INTERVAL;VALUE=DURATION:PT1H
X-Robots-Tag:noindex
X-PUBLISHED-TTL:PT1H
BEGIN:VTIMEZONE
TZID:UTC
BEGIN:STANDARD
TZOFFSETFROM:+0000
TZOFFSETTO:+0000
TZNAME:UTC
DTSTART:20240101T000000
END:STANDARD
END:VTIMEZONE
BEGIN:VEVENT
DTSTART;TZID=UTC:20251110T060000
DTEND;TZID=UTC:20251116T220000
DTSTAMP:20260422T120803
CREATED:20250218T114532Z
LAST-MODIFIED:20250224T100036Z
UID:1386-1762754400-1763330400@razemwmisji.pl
SUMMARY:Pielgrzymka do Włoch. Śladami redemptorystów.
DESCRIPTION:W Roku Jubileuszowym 2025 „Pielgrzymi nadziei” zapraszamy na pielgrzymkę do Włoch śladami początków Zgromadzenia Najświętszego Odkupiciela. \n\n\n\nPielgrzymkę organizuje Sekretariat Współpracy w Misji Prowincji Warszawskiej Redemptorystów we współpracy z Biurem Turystycznym Kaiser Tour. \n\n\n\nPIELGRZYMKA DO WŁOCH. “Śladami Redemtorystów”\n\n\n\n10-16 LISTOPAD 2025 \n\n\n\nRZYM – MONTE CASSINO – NEAPOL – PAGANI – SCALA – CIORANI – POMPEJE – MATERDOMINI –PIETRELCINA – MONTE SAN ANGELO – SAN GIOVANNI ROTONDO – LANCIANO – MANOPELLO \n\n\n\nDzień I (10 LISTOPAD) \n\n\n\nZbiórka uczestników na Lotnisku Chopina w Warszawie o godz. 6.00. Formalności lotniskowe. Wylot o godz. 8.20. Przelot do Włoch na lotnisko Rzym Fiumincino na pokładzie samolotu PLL LOT. Lądowanie o godz. 10.50. Przejazd do RZYMU. Zwiedzanie Wiecznego Miasta rozpoczniemy od MSZY ŚWIĘTEJ w  SANKTUARIUM MATKI BOŻEJ NIEUSTAJĄCEJ POMOCY przy Via Merulana. Następnie przejdziemy przez Drzwi Święte oraz zwiedzimy BAZYLIKĘ SANTA MARIA MAGGIORE. Przejazd na Lateran – odwiedzimy tutaj BAZYLIKĘ ŚWIĘTEGO JANA NA LATERANIE\, gdzie przejdziemy przez Drzwi Święte oraz ŚWIĘTE SCHODY. Przejazd w okolice ruin największego rzymskiego stadionu – CIRCO MASSIMO. Rozpoczniemy stąd Spacer po jednej z najbardziej klimatycznych dzielnic Rzymu – AWENTYNIE. Zobaczymy piękny OGRÓD RÓŻANY\, BAZYLIKĘ ŚWIĘTEJ SABINY\, w której święty Jacek Odrowąż otrzymał habit dominikański z rąk Świętego Dominika. Na koniec spoglądniemy na Rzym przez „dziurkę od klucza”.  Przejazd do BAZYLIKI ŚWIĘTEGO PAWŁA ZA MURAMI\, stojącej na miejscu\, gdzie złożono ciało Świętego Pawła. Przejście przez Drzwi Święte. Zwiedzanie Bazyliki. Przejazd  do hotelu w okolicach Rzymu. Zakwaterowanie i obiadokolacja \n\n\n\nDzień II (11 LISTOPAD) \n\n\n\nŚniadanie. Przejazd do RZYMU. Msza Święta w Kościele Św. Joachima\, którym opiekują się Ojcowie Redemptoryści. Następnie przejdziemy przez Drzwi Święte w Bazylice Świętego Piotra. Zwiedzanie Bazyliki oraz czas na modlitwę przy grobie Św. Jana Pawła II w BAZYLICE ŚWIĘTEGO PIOTRA. Następnie rozpoczniemy zwiedzanie Rzymu\, w trakcie którego zobaczymy: PLAC ŚWIĘTEGO PIOTRA.\, ZAMEK ANIOŁA – czyli dawna Twierdza i więzienie papieskie. PIAZZA NAVONA – jeden z najsłynniejszych placów rzymskich\, na którym znajduje się Fontanna Czterech Rzek. PANTEON\, SCHODY HISZPAŃSKIE. FONTANNA DI TREVI\, KOŚCIÓŁ ŚWIĘTEGO ANDRZEJA\, w którym znajdują się relikwie ŚWIĘTEGO STANISŁAWA KOSTKI\, następnie przespacerujemy się wzdłuż antycznych forów ulicą Via Fori Imperiali do antycznego amfiteatru –KOLOSEUM. Powrót do hotelu. Obiadokolacja. \n\n\n\nDzień III (12 LISTOPAD) \n\n\n\nŚniadanie. Przejazd na MONTE CASSINO. Odwiedzimy tutaj cmentarz żołnierzy polskich walczących w bitwie o wzgórze w 1944 r. Przejazd do NEAPOLU. Zwiedzanie miasta rozpoczniemy od objazdu panoramicznego\, w trakcie którego zobaczymy m.in.: Pałac Królewski\, Bazylika Świętego Jana oraz Zamek Jajeczny. Następnie rozpoczniemy spacer ulicami miasta\, w trakcie którego zobaczymy: Katedrę Świętego Januarego –  miejsce przechowywania słynnych na cały świat relikwii jego krwi\,  a także odwiedzimy miejsca związane z pobytem w Neapolu Świętego Alfona Marii Liguori. Na koniec odwiedzimy grób Księdza Dolindo – autora prostej modlitwy –„Jezu\, Ty się tym zajmij” MSZA ŚWIĘTA. Przejazd na nocleg w okolicach Pompei. Zakwaterowanie w hotelu. Obiadokolacja. \n\n\n\nDzień IV (13 LISTOPAD) \n\n\n\nŚniadanie. Wyjazd na zwiedzanie Sanktuariów związanych z początkami Zakonu Redemptorystów. Na początek udamy się do PAGANI. To tutaj znajduje się przeszklony relikwiarz skrywający doczesne szczątki założyciela Zakonu – Św. Alfonsa Marii Liguori. Zwiedzanie Muzeum. Następnie przejedziemy do przepięknie położonego na Półwyspie Sorrentyńskim – SCALA – miejsca powstania Zakonu Redemptorystów.  W miejscu tym przebywał Święty Alfons\, po którym zachowała się piękna grota\, w której się modlił\, a do której dziś przylega dedykowana mu Kaplica oraz Klasztor.  Msza Święta. Spacer po miasteczku\, z którego rozpościerają się piękne widoki na Wybrzeże Amalfi. Przejazd do CIORANI – sanktuarium będącego kolejnym miejscem działalności Św. Alfonsa Mari Liguori\, a także miejscem\, gdzie spoczywają doczesne szczątki jednego z jego pierwszych towarzyszy\, Błogosławionego Januarego Sarnellego. Powrót do hotelu. Obiadokolacja \n\n\n\nDzień V (14 LISTOPAD) \n\n\n\nŚniadanie. Przejazd do POMPEI – miasta kompletnie zniszczonego przez Wezuwiusz w czasie erupcji z 79 r. Zwiedzanie  Bazyliki Matki Bożej Różańcowej. To właśnie tutaj pracował jego założyciel bł. Bartłomiej Longo. Tu też powstała słynna nowenna pompejańska. Msza Święta. Następnie zwiedzimy PARK ATCHEOLOGICZNY\, w którym zobaczymy to co pozostało z antycznych Pompei.  Przejazd do MATERDOMINI – Sanktuarium dedykowanego Świętemu Gerardowi Majella – patronowi i opiekunowi matek oraz kobiet w stanie błogosławionym. Zwiedzanie Sanktuarium. Przejazd na nocleg w okolicach AVELLINO. \n\n\n\nDzień VI (15 LISTOPAD) \n\n\n\nŚniadanie. Przejazd do PIETRELCINY– rodzinnej miejscowości Ojca Pio. Spacer uliczkami miasteczka do domu rodzinnego Świętego. Zobaczymy również kościół\, w którym został ochrzczony. Przejazd do MONTE SANT ANGELO – miejsca objawień Świętego Michała Archanioła. Msza Święta w grocie. Spacer uliczkami miasteczka. Przejazd na nocleg do SAN GIOVANNI ROTONDO. Zwiedzanie miejsc związanych z życiem i działalnością Ojca Pio – Kościół Antyczny\, Bazylika Matki Bożej Łaskawej\, Muzeum – gdzie zobaczymy celę Ojca Pio\, Kościół Ojca Pio. Zakwaterowanie w hotelu. Obiadokolacja. \n\n\n\nDzień VII (16 LISTOPAD) \n\n\n\nŚniadanie. Przejazd do LANCIANO – miejsca pierwszego\, znanego cudu eucharystycznego na terenie dzisiejszych Włoch. Msza Święta. Przejazd do MANOPELLO\,  gdzie zobaczymy „Święte oblicze”\, czyli wizerunek Chrystusa zwany popularnie Chustą Świętej Weroniki. Przejazd na lotnisko Fiumincino. Formalności lotniskowe. Powrót do Polski na pokładzie samolotu PLL LOT. Lądowanie w Warszawie o 22.00  Zakończenie pielgrzymki. \n\n\n\nCena: 3 950 zł \n\n\n\nCena zawiera: \n\n\n\n\n6 noclegów w pokojach 2-3 osobowych z łazienkami w hotelach **/***\n\n\n\n6 śniadań i obiadokolacji\n\n\n\nPrzelot na trasie Warszawa – Fiumincino – Warszawa na pokładzie PLL LOT\n\n\n\nOpieka pilota/przewodnika\n\n\n\nUbezpieczenie KL\, NNW na kwotę 20 000 Euro\n\n\n\nObowiązkowa składka na TFG + TFP\n\n\n\nSystem tourguide dla każdego uczestnika\n\n\n\n\nCena nie obejmuje: \n\n\n\n\nKwoty 290 euro/os. zbieranej przez pilota w autokarze z przeznaczeniem na:Bilety wstępu do zwiedzanych obiektów oraz atrakcji:Zestaw słuchawkowy w Bazylice Świętego Piotra oraz Santa Maria Maggiore w RzymiePark Archeologiczny w PompejachTransport nowoczesnym autokarem na terenie WłochPrzewodników lokalnych w: Rzymie\, Neapolu\, Pompejach\,  San Giovanni Rotondo\n\nOpłaty drogowe oraz parkingi\n\n\n\n\n\nEwentualnego ubezpieczenia od kosztów rezygnacji w wysokości ok. 120 zł płatne w terminie do 7 dni od podpisania umowy o uczestnictwo w pielgrzymce\n\n\n\nDopłaty do pokoju jednoosobowego (na zapytanie)\n\n\n\nŚwiadczeń nie wymienionych w ofercie\n\n\n\nWydatków własnych\n\n\n\nTransferu na lotnisko\n\n\n\n\nWażne informacje: \n\n\n\n\nProsimy o zabranie ważnego dowodu tożsamości: PASZPORT/ DOWÓD OSOBISTY\n\n\n\nZastrzegamy sobie zmianę kolejności zwiedzanych obiektów\n\n\n\nCena skalkulowana jest dla grupy 46 osób\n\n\n\nCena została skalkulowana wg stawek transportu oraz cen świadczeń obowiązujących w dniu 06.02.2025 Cena może ulec zmianie w związku ze zmianą liczebności grupy\, stawek transportowych\, cen świadczeń oraz w momencie kiedy kurs euro przekroczy 4.60 zł\n\n\n\nAktualne warunki odnośnie wjazdu na terytorium poszczególnych krajów znaleźć można na stronach Ministerstwa Spraw Zagranicznych https://www.gov.pl/web/dyplomacja/informacje-dla-podrozujacych\n\n\n\nWysokość składki na Turystyczny Fundusz Gwarancyjny i Turystyczny Fundusz Pomocowy  z tytułu zawartej umowy o udział w imprezie turystycznej określa rozporządzenie Ministra Rozwoju\, Pracy i Technologii z dnia 22.12.2020 (poz. 2372\, 2379.)\n\n\n\nZastrzegamy\, że oferta została przygotowana w oparciu o dostępność i cenę świadczeń z dnia 1.02.2025. Na dzień dzisiejszy żadne rezerwacje nie zostały dokonane.\n\n\n\nNie ponosimy odpowiedzialności przez jakiejkolwiek zmiany dokonane przez linie lotnicze w tym zmiany godzin przelotu.\n\n\n\nW ramach lotu obsługiwanego przez PLL LOT\, pasażer ma  prawo przewozu 1 szt. bagażu rejestrowanego do 23 kg oraz 1 bagaż podręczny do 8 kg.\n\n\n\n\nOrganizatorzy: \n\n\n\nBIURO TURYSTYCZNE KAISER TOUR Michał Oberc; 38-200 Jasło  ul. Chopina 22/5; Tel. +48 695 755 466  E-mail: b.t.kaisertour@gmail.com; ww.kaisertour.pl NIP: 685 214 19 06 \n\n\n\nSekretariat Współpracy w Misji Warszawskiej Prowincji Redemptorystwów\, ul. Piesza 1\, 00-230 Warszawa \n\n\n\nZapytania prosimy kierować: tel. 515 660 125 e-mail: kontakt@razemwmisji.pl \n\n\n\n \n\n\n\nW celu zapisania się na pielgrzymkę dokonują się przez formularz zgłoszeniowy. Na listę uczestników osoba zostaje zapisana po wpłacie zaliczki w wysokości 1500 zł. Numer konta zostanie wysłany po wypełnieniu formularza zgłoszeń. Zapisy do wyczerpania miejsc na pielgrzymkę. \n\n\n\n\nFormularz zapisów na pielgrzymkę
URL:https://razemwmisji.pl/event/pielgrzymka-do-wloch-sladami-redemptorystow/
ATTACH;FMTTYPE=image/jpeg:https://razemwmisji.pl/wp-content/uploads/2025/02/Rzym_1.jpeg
END:VEVENT
END:VCALENDAR